BEGIN:VCALENDAR
VERSION:2.0
PRODID:-//Das Wohlfühlhaus - ECPv6.15.18//NONSGML v1.0//EN
CALSCALE:GREGORIAN
METHOD:PUBLISH
X-WR-CALNAME:Das Wohlfühlhaus
X-ORIGINAL-URL:https://das-wohlfuehlhaus-assenheim.de
X-WR-CALDESC:Veranstaltungen für Das Wohlfühlhaus
REFRESH-INTERVAL;VALUE=DURATION:PT1H
X-Robots-Tag:noindex
X-PUBLISHED-TTL:PT1H
BEGIN:VTIMEZONE
TZID:Europe/Berlin
BEGIN:DAYLIGHT
TZOFFSETFROM:+0100
TZOFFSETTO:+0200
TZNAME:CEST
DTSTART:20250330T010000
END:DAYLIGHT
BEGIN:STANDARD
TZOFFSETFROM:+0200
TZOFFSETTO:+0100
TZNAME:CET
DTSTART:20251026T010000
END:STANDARD
BEGIN:DAYLIGHT
TZOFFSETFROM:+0100
TZOFFSETTO:+0200
TZNAME:CEST
DTSTART:20260329T010000
END:DAYLIGHT
BEGIN:STANDARD
TZOFFSETFROM:+0200
TZOFFSETTO:+0100
TZNAME:CET
DTSTART:20261025T010000
END:STANDARD
BEGIN:DAYLIGHT
TZOFFSETFROM:+0100
TZOFFSETTO:+0200
TZNAME:CEST
DTSTART:20270328T010000
END:DAYLIGHT
BEGIN:STANDARD
TZOFFSETFROM:+0200
TZOFFSETTO:+0100
TZNAME:CET
DTSTART:20271031T010000
END:STANDARD
END:VTIMEZONE
BEGIN:VEVENT
DTSTART;TZID=Europe/Berlin:20260424T190000
DTEND;TZID=Europe/Berlin:20260424T203000
DTSTAMP:20260424T150621
CREATED:20260205T145850Z
LAST-MODIFIED:20260401T140118Z
UID:10000069-1777057200-1777062600@das-wohlfuehlhaus-assenheim.de
SUMMARY:Der stille Raum – Trance\, Atem & Heilenergie
DESCRIPTION:🌿 Der stille Raum – Trance\, Atem & Heilenergie \n\n\n\nEin monatlicher Abend zum Stillwerden\, Empfangen und Tiefgehen \n\n\n\nDer stille Raum ist ein regelmäßig stattfindender Trance- und Heilenergie-Abend für Frauen\, die Heilenergie empfangen möchten und sich nach Ruhe\, innerer Weite und Regeneration sehnen. \n\n\n\nAn diesem Abend wirst du sanft begleitet\, über Atem und innere Ausrichtung selbst in einen Zustand von Trance zu sinken. \n\n\n\nWährenddessen lasse ich Heilenergie durch mich fließen\, die das Feld trägt\, vertieft und harmonisiert. \n\n\n\nDu musst nichts tun.Du darfst empfangen.Du darfst einfach sein. \n\n\n\n\n\n\n\n✨ Was dich erwartet\n\n\n\n\nruhiges Ankommen und Erdung\n\n\n\nsanfte Atem- und Körperwahrnehmung\n\n\n\nbegleitete Selbsttrance\n\n\n\nTrancephase im Feld von Heilenergie\n\n\n\nsanftes Zurückkommen & Integration\n\n\n\n\n🕯 Dauer: ca. 90 Minuten🌿 Vorerfahrung: nicht erforderlich🤍 Teilnehmerinnenzahl: begrenzt \n\n\n\n\n\n\n\n📅 Termine\n\n\n\nDieser Abend findet einmal im Monat statt. \n\n\n\nAktuelle Termine:• Fr\, 24.04.2026• Fr\, 22.05.2026• Fr\, 24.07.2026(weitere Termine folgen) \n\n\n\n\n\n\n\n💶 Beitrag\n\n\n\n🕯 Einzelabend: 33 €🌿 Abo (3 Abende): 88 € \n\n\n\n\n\n\n\n✉️ Anmeldung\n\n\n\nBitte melde dich verbindlich per E-Mail an:anders@yoga-anders.de \n\n\n\n\n\n\n\n✨ Abschluss\n\n\n\nDer stille Raum ist eine Einladung\,dir selbst zu begegnen –in Ruhe\, Tiefe und getragenem Sein.
URL:https://das-wohlfuehlhaus-assenheim.de/event/der-stille-raum-trance-atem-heilenergie/2026-04-24/
LOCATION:Das Wohlfühlhaus Assenheim\, Theodor-Fontane-Str. 16\, Niddatal\, Deutschland\, 61194\, Germany
ATTACH;FMTTYPE=image/jpeg:https://das-wohlfuehlhaus-assenheim.de/wp-content/uploads/2026/02/israel_solano-space-4169495_1280-1.jpg
ORGANIZER;CN="Heike Anders-Biebricher":MAILTO:anders@yoga-anders.de
END:VEVENT
END:VCALENDAR